BEGIN:VCALENDAR
VERSION:2.0
PRODID:-//Greunen - ECPv5.9.1//NONSGML v1.0//EN
CALSCALE:GREGORIAN
METHOD:PUBLISH
X-WR-CALNAME:Greunen
X-ORIGINAL-URL:https://greun.nl
X-WR-CALDESC:Evenementen voor Greunen
BEGIN:VTIMEZONE
TZID:UTC
BEGIN:STANDARD
TZOFFSETFROM:+0000
TZOFFSETTO:+0000
TZNAME:UTC
DTSTART:20220101T000000
END:STANDARD
END:VTIMEZONE
BEGIN:VEVENT
DTSTART;TZID=UTC:20220205T200000
DTEND;TZID=UTC:20220205T200000
DTSTAMP:20260422T145655
CREATED:20211008T122303Z
LAST-MODIFIED:20211008T122304Z
UID:15813-1644091200-1644091200@greun.nl
SUMMARY:Opkomst Gravin El Casanova
DESCRIPTION:
URL:https://greun.nl/event/opkomst-gravin-el-casanova/
LOCATION:Concordia\, Denekamp
ATTACH;FMTTYPE=image/jpeg:https://greun.nl/wp-content/uploads/2021/10/Copy-of-Happy-Helloween-Made-with-PosterMyWall-2.jpg
END:VEVENT
END:VCALENDAR