BEGIN:VCALENDAR
VERSION:2.0
PRODID:-//Greunen - ECPv5.9.1//NONSGML v1.0//EN
CALSCALE:GREGORIAN
METHOD:PUBLISH
X-WR-CALNAME:Greunen
X-ORIGINAL-URL:https://greun.nl
X-WR-CALDESC:Evenementen voor Greunen
BEGIN:VTIMEZONE
TZID:UTC
BEGIN:STANDARD
TZOFFSETFROM:+0000
TZOFFSETTO:+0000
TZNAME:UTC
DTSTART:20220101T000000
END:STANDARD
END:VTIMEZONE
BEGIN:VEVENT
DTSTART;TZID=UTC:20220122T193000
DTEND;TZID=UTC:20220122T235900
DTSTAMP:20260421T101458
CREATED:20211008T121116Z
LAST-MODIFIED:20211008T121117Z
UID:15786-1642879800-1642895940@greun.nl
SUMMARY:Opkomst Markies C.V. Droadneggel en Schuppendrieters
DESCRIPTION:
URL:https://greun.nl/event/opkomst-markies-c-v-droadneggel-en-schuppendrieters/
LOCATION:Gasterij de Smid\, Lattrop
ATTACH;FMTTYPE=image/jpeg:https://greun.nl/wp-content/uploads/2021/10/Copy-of-Happy-Helloween-Made-with-PosterMyWall-10.jpg
END:VEVENT
END:VCALENDAR